{"text_format":"1","workbook":"xlsx","n_sheets":4,"sheets":["入力シート","学校対抗戦","男子個人対抗戦","女子個人対抗戦"],"not_rendered":{"charts":0,"images":0,"macros":1,"external_links":1,"defined_names":26,"comments":0,"pivot_tables":0},"unopened":[],"bounds":{"document_bytes":16777216,"sheet_cells":100000,"rows_first":2000,"rows_last":500,"rows_between":2000,"halvings":0,"cell_chars":16384,"cell_head_chars":4096},"cells_cut":0,"cells_raw":0,"read":"whole","date_system":"1900"}

{"sheet":"入力シート","index":0,"n_rows":83,"n_cols":12,"rows_kept":83,"cut":false,"hidden":false,"merged":[[78,9,78,10],[79,9,79,10],[80,9,80,10],[81,9,81,10],[82,9,82,10],[73,9,73,10],[74,9,74,10],[75,9,75,10],[76,9,76,10],[77,9,77,10],[68,9,68,10],[69,9,69,10],[70,9,70,10],[71,9,71,10],[72,9,72,10],[60,9,60,10],[62,1,62,4],[64,1,64,2],[65,1,65,2],[66,1,66,2],[55,9,55,10],[56,9,56,10],[57,9,57,10],[58,9,58,10],[59,9,59,10],[50,9,50,10],[51,9,51,10],[52,9,52,10],[53,9,53,10],[54,9,54,10],[45,9,45,10],[46,9,46,10],[47,9,47,10],[48,9,48,10],[49,9,49,10],[40,9,40,10],[41,9,41,10],[42,9,42,10],[43,9,43,10],[44,9,44,10],[35,9,35,10],[36,9,36,10],[37,9,37,10],[38,9,38,10],[39,9,39,10],[30,9,30,10],[31,9,31,10],[32,9,32,10],[33,9,33,10],[34,9,34,10],[24,1,24,2],[25,1,25,2],[26,1,26,2],[28,9,28,10],[29,9,29,10],[17,1,17,2],[18,1,18,2],[19,1,19,2],[20,1,20,2],[22,1,22,4],[12,1,12,2],[13,1,13,2],[14,1,14,2],[15,1,15,2],[16,1,16,2],[7,1,7,2],[8,1,8,2],[9,1,9,2],[10,1,10,2],[11,1,11,2],[0,1,0,4],[2,1,2,2],[3,1,3,2],[4,1,4,2],[6,1,6,2]]}
[null,"学校対抗戦",null,null,null,null,null,null,null,null,"開催年度　大会名","令和６年度　"]
[null,null,null,null,null,null,null,null,null,null,"大会名(サブタイトル）","熊本県高等学校レスリング新人大会"]
[null,null,null,"名前","ふりがな"]
[null,"監督名"]
[null,"引率者名"]
[]
[null,"階級",null,"選手名","ふりがな","生年月日\n(例:2004/1/19)","学年","登録番号","年齢",null,"ふりがな"]
[null,51,null,null,null,null,null,null,null,null,"学校名"]
[null,null,null,null,null,null,null,null,null,null,"ふりがな"]
[null,55,null,null,null,null,null,null,null,null,"所在地"]
[null,null,null,null,null,null,null,null,null,null,"郵便番号"]
[null,60,null,null,null,null,null,null,null,null,"TEL"]
[null,null,null,null,null,null,null,null,null,null,"FAX"]
[null,65,null,null,null,null,null,null,null,null,"学校長名"]
[null,null,null,null,null,null,null,null,null,null,"学校申込日"]
[null,71]
[]
[null,80]
[]
[null,125]
[]
[]
[null,"個人対抗戦（男子）"]
[]
[null,null,null,"名前","ふりがな"]
[null,"監督名"]
[null,"引率者名"]
[]
[null,"NO.","階級","選手名","ふりがな","生年月日\n(例:2004/1/19)","学年","登録番号","年齢","学校名"]
[null,null,51]
[]
[]
[]
[null,null,55]
[]
[]
[]
[null,null,60]
[]
[]
[]
[null,null,65]
[]
[]
[null,null,null,null,null,null,null,null,{"$f":"IF(F45=\"\",\"\",DATEDIF(F45,TODAY(),\"Y\"))","v":""}]
[null,null,71]
[]
[]
[]
[null,null,80]
[]
[]
[]
[null,null,92]
[]
[]
[]
[null,null,125]
[]
[]
[]
[]
[null,"個人対抗戦(女子）"]
[]
[null,null,null,"名前","ふりがな"]
[null,"監督名"]
[null,"引率者名"]
[]
[null,"NO.","階級","選手名","ふりがな","生年月日\n(例:2004/1/19)","学年","登録番号","年齢","学校名"]
[null,null,47,null,null,null,null,null,{"$f":"IF(F70=\"\",\"\",DATEDIF(F70,TODAY(),\"Y\"))","v":""}]
[null,null,null,null,null,null,null,null,""]
[null,null,50,null,null,null,null,null,""]
[null,null,null,null,null,null,null,null,""]
[null,null,53,null,null,null,null,null,""]
[null,null,null,null,null,null,null,null,""]
[null,null,57,null,null,null,null,null,""]
[null,null,null,null,null,null,null,null,""]
[null,null,62,null,null,null,null,null,""]
[null,null,null,null,null,null,null,null,""]
[null,null,68,null,null,null,null,null,""]
[null,null,null,null,null,null,null,null,""]
[null,null,74,null,null,null,null,null,""]
[null,null,null,null,null,null,null,null,""]

{"sheet":"学校対抗戦","index":1,"n_rows":35,"n_cols":7,"rows_kept":35,"cut":false,"hidden":false,"merged":[[8,0,9,0],[8,1,9,3],[12,0,13,0],[12,1,13,3],[15,0,16,0],[15,3,16,3],[12,5,12,6],[13,5,13,6],[15,1,15,2],[34,0,34,1],[34,2,34,3],[34,4,34,5],[15,4,16,4],[15,5,16,5],[15,6,16,6],[17,0,18,0],[19,0,20,0],[21,0,22,0],[23,0,24,0],[25,0,26,0],[27,0,28,0],[29,0,30,0],[7,1,7,3],[7,5,7,6],[8,5,8,6],[9,5,9,6],[11,1,11,6],[0,0,0,6],[1,0,1,6],[2,0,2,6],[4,5,4,6],[5,5,5,6],[4,0,5,0]]}
[{"$f":"入力シート!L1","v":"令和６年度　"}]
[{"$f":"入力シート!L2","v":"熊本県高等学校レスリング新人大会"}]
["参 加 申 込 書"]
[]
["学校対抗戦"]
[]
[]
["ふりがな",{"$f":"入力シート!L7","v":0},null,null,"ふりがな",{"$f":"入力シート!E4","v":0}]
["学　校　名",{"$f":"入力シート!L8","v":0},null,null,"監　督　名",{"$f":"入力シート!D4","v":0}]
[null,null,null,null,"引率責任者",{"$f":"入力シート!D5","v":0}]
[]
["ふりがな",{"$f":"\"〒\"&入力シート!L11&\"     \"&入力シート!L9","v":"〒     "}]
["所　在　地",{"$f":"入力シート!L10","v":0},null,null,"電　話",{"$f":"入力シート!L12","v":0}]
[null,null,null,null,"F A X",{"$f":"入力シート!L13","v":0}]
[]
["区　分","選手名",null,"学 年","生 年 月 日","年 齢","備　考\n(登録番号）"]
[null,"氏  名","ふりがな"]
[{"$f":"入力シート!B8","v":51},{"$f":"IF(入力シート!D8=\"\",\"\",入力シート!D8)","v":""},{"$f":"IF(入力シート!E8=\"\",\"\",入力シート!E8)","v":""},{"$f":"IF(入力シート!G8=\"\",\"\",入力シート!G8)","v":""},{"$f":"IF(入力シート!F8=\"\",\"\",入力シート!F8)","v":""},{"$f":"IF(入力シート!I8=\"\",\"\",入力シート!I8)","v":""},{"$f":"IF(入力シート!H8=\"\",\"\",入力シート!H8)","v":""}]
[null,{"$f":"IF(入力シート!D9=\"\",\"\",入力シート!D9)","v":""},{"$f":"IF(入力シート!E9=\"\",\"\",入力シート!E9)","v":""},{"$f":"IF(入力シート!G9=\"\",\"\",入力シート!G9)","v":""},{"$f":"IF(入力シート!F9=\"\",\"\",入力シート!F9)","v":""},{"$f":"IF(入力シート!I9=\"\",\"\",入力シート!I9)","v":""},{"$f":"IF(入力シート!H9=\"\",\"\",入力シート!H9)","v":""}]
[{"$f":"入力シート!B10","v":55},{"$f":"IF(入力シート!D10=\"\",\"\",入力シート!D10)","v":""},{"$f":"IF(入力シート!E10=\"\",\"\",入力シート!E10)","v":""},{"$f":"IF(入力シート!G10=\"\",\"\",入力シート!G10)","v":""},{"$f":"IF(入力シート!F10=\"\",\"\",入力シート!F10)","v":""},{"$f":"IF(入力シート!I10=\"\",\"\",入力シート!I10)","v":""},{"$f":"IF(入力シート!H10=\"\",\"\",入力シート!H10)","v":""}]
[null,{"$f":"IF(入力シート!D11=\"\",\"\",入力シート!D11)","v":""},{"$f":"IF(入力シート!E11=\"\",\"\",入力シート!E11)","v":""},{"$f":"IF(入力シート!G11=\"\",\"\",入力シート!G11)","v":""},{"$f":"IF(入力シート!F11=\"\",\"\",入力シート!F11)","v":""},{"$f":"IF(入力シート!I11=\"\",\"\",入力シート!I11)","v":""},{"$f":"IF(入力シート!H11=\"\",\"\",入力シート!H11)","v":""}]
[{"$f":"入力シート!B12","v":60},{"$f":"IF(入力シート!D12=\"\",\"\",入力シート!D12)","v":""},{"$f":"IF(入力シート!E12=\"\",\"\",入力シート!E12)","v":""},{"$f":"IF(入力シート!G12=\"\",\"\",入力シート!G12)","v":""},{"$f":"IF(入力シート!F12=\"\",\"\",入力シート!F12)","v":""},{"$f":"IF(入力シート!I12=\"\",\"\",入力シート!I12)","v":""},{"$f":"IF(入力シート!H12=\"\",\"\",入力シート!H12)","v":""}]
[null,{"$f":"IF(入力シート!D13=\"\",\"\",入力シート!D13)","v":""},{"$f":"IF(入力シート!E13=\"\",\"\",入力シート!E13)","v":""},{"$f":"IF(入力シート!G13=\"\",\"\",入力シート!G13)","v":""},{"$f":"IF(入力シート!F13=\"\",\"\",入力シート!F13)","v":""},{"$f":"IF(入力シート!I13=\"\",\"\",入力シート!I13)","v":""},{"$f":"IF(入力シート!H13=\"\",\"\",入力シート!H13)","v":""}]
[{"$f":"入力シート!B14","v":65},{"$f":"IF(入力シート!D14=\"\",\"\",入力シート!D14)","v":""},{"$f":"IF(入力シート!E14=\"\",\"\",入力シート!E14)","v":""},{"$f":"IF(入力シート!G14=\"\",\"\",入力シート!G14)","v":""},{"$f":"IF(入力シート!F14=\"\",\"\",入力シート!F14)","v":""},{"$f":"IF(入力シート!I14=\"\",\"\",入力シート!I14)","v":""},{"$f":"IF(入力シート!H14=\"\",\"\",入力シート!H14)","v":""}]
[null,{"$f":"IF(入力シート!D15=\"\",\"\",入力シート!D15)","v":""},{"$f":"IF(入力シート!E15=\"\",\"\",入力シート!E15)","v":""},{"$f":"IF(入力シート!G15=\"\",\"\",入力シート!G15)","v":""},{"$f":"IF(入力シート!F15=\"\",\"\",入力シート!F15)","v":""},{"$f":"IF(入力シート!I15=\"\",\"\",入力シート!I15)","v":""},{"$f":"IF(入力シート!H15=\"\",\"\",入力シート!H15)","v":""}]
[{"$f":"入力シート!B16","v":71},{"$f":"IF(入力シート!D16=\"\",\"\",入力シート!D16)","v":""},{"$f":"IF(入力シート!E16=\"\",\"\",入力シート!E16)","v":""},{"$f":"IF(入力シート!G16=\"\",\"\",入力シート!G16)","v":""},{"$f":"IF(入力シート!F16=\"\",\"\",入力シート!F16)","v":""},{"$f":"IF(入力シート!I16=\"\",\"\",入力シート!I16)","v":""},{"$f":"IF(入力シート!H16=\"\",\"\",入力シート!H16)","v":""}]
[null,{"$f":"IF(入力シート!D17=\"\",\"\",入力シート!D17)","v":""},{"$f":"IF(入力シート!E17=\"\",\"\",入力シート!E17)","v":""},{"$f":"IF(入力シート!G17=\"\",\"\",入力シート!G17)","v":""},{"$f":"IF(入力シート!F17=\"\",\"\",入力シート!F17)","v":""},{"$f":"IF(入力シート!I17=\"\",\"\",入力シート!I17)","v":""},{"$f":"IF(入力シート!H17=\"\",\"\",入力シート!H17)","v":""}]
[{"$f":"入力シート!B18","v":80},{"$f":"IF(入力シート!D18=\"\",\"\",入力シート!D18)","v":""},{"$f":"IF(入力シート!E18=\"\",\"\",入力シート!E18)","v":""},{"$f":"IF(入力シート!G18=\"\",\"\",入力シート!G18)","v":""},{"$f":"IF(入力シート!F18=\"\",\"\",入力シート!F18)","v":""},{"$f":"IF(入力シート!I18=\"\",\"\",入力シート!I18)","v":""},{"$f":"IF(入力シート!H18=\"\",\"\",入力シート!H18)","v":""}]
[null,{"$f":"IF(入力シート!D19=\"\",\"\",入力シート!D19)","v":""},{"$f":"IF(入力シート!E19=\"\",\"\",入力シート!E19)","v":""},{"$f":"IF(入力シート!G19=\"\",\"\",入力シート!G19)","v":""},{"$f":"IF(入力シート!F19=\"\",\"\",入力シート!F19)","v":""},{"$f":"IF(入力シート!I19=\"\",\"\",入力シート!I19)","v":""},{"$f":"IF(入力シート!H19=\"\",\"\",入力シート!H19)","v":""}]
[{"$f":"入力シート!B20","v":125},{"$f":"IF(入力シート!D20=\"\",\"\",入力シート!D20)","v":""},{"$f":"IF(入力シート!E20=\"\",\"\",入力シート!E20)","v":""},{"$f":"IF(入力シート!G20=\"\",\"\",入力シート!G20)","v":""},{"$f":"IF(入力シート!F20=\"\",\"\",入力シート!F20)","v":""},{"$f":"IF(入力シート!I20=\"\",\"\",入力シート!I20)","v":""},{"$f":"IF(入力シート!H20=\"\",\"\",入力シート!H20)","v":""}]
[null,{"$f":"IF(入力シート!D21=\"\",\"\",入力シート!D21)","v":""},{"$f":"IF(入力シート!E21=\"\",\"\",入力シート!E21)","v":""},{"$f":"IF(入力シート!G21=\"\",\"\",入力シート!G21)","v":""},{"$f":"IF(入力シート!F21=\"\",\"\",入力シート!F21)","v":""},{"$f":"IF(入力シート!I21=\"\",\"\",入力シート!I21)","v":""},{"$f":"IF(入力シート!H21=\"\",\"\",入力シート!H21)","v":""}]
[]
["上記の者は本校在学生徒であり、標記大会に出場することを認め、参加申し込みをいたします。"]
[]
[{"$f":"入力シート!L15","v":"00:00:00"},null,{"$f":"入力シート!L8&\"長\"","v":"長"},null,{"$f":"入力シート!L14","v":0}]

{"sheet":"男子個人対抗戦","index":2,"n_rows":53,"n_cols":7,"rows_kept":53,"cut":false,"hidden":false,"merged":[[45,0,48,0],[8,0,9,0],[8,1,9,3],[12,0,13,0],[12,1,13,3],[15,0,16,0],[15,3,16,3],[12,5,12,6],[13,5,13,6],[15,1,15,2],[52,0,52,1],[52,2,52,3],[52,4,52,5],[15,4,16,4],[15,5,16,5],[15,6,16,6],[17,0,20,0],[21,0,24,0],[25,0,28,0],[29,0,32,0],[33,0,36,0],[37,0,40,0],[41,0,44,0],[7,1,7,3],[7,5,7,6],[8,5,8,6],[9,5,9,6],[11,1,11,6],[0,0,0,6],[1,0,1,6],[2,0,2,6],[4,5,4,6],[5,5,5,6],[4,0,5,0]]}
[{"$f":"入力シート!L1","v":"令和６年度　"}]
[{"$f":"入力シート!L2","v":"熊本県高等学校レスリング新人大会"}]
["参 加 申 込 書"]
[]
["男子\n個人対抗戦"]
[]
[]
["ふりがな",{"$f":"入力シート!L7","v":0},null,null,"ふりがな",{"$f":"入力シート!E26","v":0}]
["学　校　名",{"$f":"入力シート!L8","v":0},null,null,"監　督　名",{"$f":"入力シート!D26","v":0}]
[null,null,null,null,"引率責任者",{"$f":"入力シート!D27","v":0}]
[]
["ふりがな",{"$f":"\"〒\"&入力シート!L11&\"     \"&入力シート!L9","v":"〒     "}]
["所　在　地",{"$f":"入力シート!L10","v":0},null,null,"電　話",{"$f":"入力シート!L12","v":0}]
[null,null,null,null,"F A X",{"$f":"入力シート!L13","v":0}]
[]
["区　分","選手名",null,"学 年","生 年 月 日","年 齢","備　考\n(登録番号）"]
[null,"氏  名","ふりがな"]
[{"$f":"入力シート!C30","v":51},{"$f":"IF(入力シート!D30=\"\",\"\",入力シート!D30)","v":""},{"$f":"IF(入力シート!E30=\"\",\"\",入力シート!E30)","v":""},{"$f":"IF(入力シート!G30=\"\",\"\",入力シート!G30)","v":""},{"$f":"IF(入力シート!F30=\"\",\"\",入力シート!F30)","v":""},{"$f":"IF(入力シート!I30=\"\",\"\",入力シート!I30)","v":""},{"$f":"IF(入力シート!H30=\"\",\"\",入力シート!H30)","v":""}]
[null,{"$f":"IF(入力シート!D31=\"\",\"\",入力シート!D31)","v":""},{"$f":"IF(入力シート!E31=\"\",\"\",入力シート!E31)","v":""},{"$f":"IF(入力シート!G31=\"\",\"\",入力シート!G31)","v":""},{"$f":"IF(入力シート!F31=\"\",\"\",入力シート!F31)","v":""},{"$f":"IF(入力シート!I31=\"\",\"\",入力シート!I31)","v":""},{"$f":"IF(入力シート!H31=\"\",\"\",入力シート!H31)","v":""}]
[null,{"$f":"IF(入力シート!D32=\"\",\"\",入力シート!D32)","v":""},{"$f":"IF(入力シート!E32=\"\",\"\",入力シート!E32)","v":""},{"$f":"IF(入力シート!G32=\"\",\"\",入力シート!G32)","v":""},{"$f":"IF(入力シート!F32=\"\",\"\",入力シート!F32)","v":""},{"$f":"IF(入力シート!I32=\"\",\"\",入力シート!I32)","v":""},{"$f":"IF(入力シート!H32=\"\",\"\",入力シート!H32)","v":""}]
[null,{"$f":"IF(入力シート!D33=\"\",\"\",入力シート!D33)","v":""},{"$f":"IF(入力シート!E33=\"\",\"\",入力シート!E33)","v":""},{"$f":"IF(入力シート!G33=\"\",\"\",入力シート!G33)","v":""},{"$f":"IF(入力シート!F33=\"\",\"\",入力シート!F33)","v":""},{"$f":"IF(入力シート!I33=\"\",\"\",入力シート!I33)","v":""},{"$f":"IF(入力シート!H33=\"\",\"\",入力シート!H33)","v":""}]
[{"$f":"入力シート!C34","v":55},{"$f":"IF(入力シート!D34=\"\",\"\",入力シート!D34)","v":""},{"$f":"IF(入力シート!E34=\"\",\"\",入力シート!E34)","v":""},{"$f":"IF(入力シート!G34=\"\",\"\",入力シート!G34)","v":""},{"$f":"IF(入力シート!F34=\"\",\"\",入力シート!F34)","v":""},{"$f":"IF(入力シート!I34=\"\",\"\",入力シート!I34)","v":""},{"$f":"IF(入力シート!H34=\"\",\"\",入力シート!H34)","v":""}]
[null,{"$f":"IF(入力シート!D35=\"\",\"\",入力シート!D35)","v":""},{"$f":"IF(入力シート!E35=\"\",\"\",入力シート!E35)","v":""},{"$f":"IF(入力シート!G35=\"\",\"\",入力シート!G35)","v":""},{"$f":"IF(入力シート!F35=\"\",\"\",入力シート!F35)","v":""},{"$f":"IF(入力シート!I35=\"\",\"\",入力シート!I35)","v":""},{"$f":"IF(入力シート!H35=\"\",\"\",入力シート!H35)","v":""}]
[null,{"$f":"IF(入力シート!D36=\"\",\"\",入力シート!D36)","v":""},{"$f":"IF(入力シート!E36=\"\",\"\",入力シート!E36)","v":""},{"$f":"IF(入力シート!G36=\"\",\"\",入力シート!G36)","v":""},{"$f":"IF(入力シート!F36=\"\",\"\",入力シート!F36)","v":""},{"$f":"IF(入力シート!I36=\"\",\"\",入力シート!I36)","v":""},{"$f":"IF(入力シート!H36=\"\",\"\",入力シート!H36)","v":""}]
[null,{"$f":"IF(入力シート!D37=\"\",\"\",入力シート!D37)","v":""},{"$f":"IF(入力シート!E37=\"\",\"\",入力シート!E37)","v":""},{"$f":"IF(入力シート!G37=\"\",\"\",入力シート!G37)","v":""},{"$f":"IF(入力シート!F37=\"\",\"\",入力シート!F37)","v":""},{"$f":"IF(入力シート!I37=\"\",\"\",入力シート!I37)","v":""},{"$f":"IF(入力シート!H37=\"\",\"\",入力シート!H37)","v":""}]
[{"$f":"入力シート!C38","v":60},{"$f":"IF(入力シート!D38=\"\",\"\",入力シート!D38)","v":""},{"$f":"IF(入力シート!E38=\"\",\"\",入力シート!E38)","v":""},{"$f":"IF(入力シート!G38=\"\",\"\",入力シート!G38)","v":""},{"$f":"IF(入力シート!F38=\"\",\"\",入力シート!F38)","v":""},{"$f":"IF(入力シート!I38=\"\",\"\",入力シート!I38)","v":""},{"$f":"IF(入力シート!H38=\"\",\"\",入力シート!H38)","v":""}]
[null,{"$f":"IF(入力シート!D39=\"\",\"\",入力シート!D39)","v":""},{"$f":"IF(入力シート!E39=\"\",\"\",入力シート!E39)","v":""},{"$f":"IF(入力シート!G39=\"\",\"\",入力シート!G39)","v":""},{"$f":"IF(入力シート!F39=\"\",\"\",入力シート!F39)","v":""},{"$f":"IF(入力シート!I39=\"\",\"\",入力シート!I39)","v":""},{"$f":"IF(入力シート!H39=\"\",\"\",入力シート!H39)","v":""}]
[null,{"$f":"IF(入力シート!D40=\"\",\"\",入力シート!D40)","v":""},{"$f":"IF(入力シート!E40=\"\",\"\",入力シート!E40)","v":""},{"$f":"IF(入力シート!G40=\"\",\"\",入力シート!G40)","v":""},{"$f":"IF(入力シート!F40=\"\",\"\",入力シート!F40)","v":""},{"$f":"IF(入力シート!I40=\"\",\"\",入力シート!I40)","v":""},{"$f":"IF(入力シート!H40=\"\",\"\",入力シート!H40)","v":""}]
[null,{"$f":"IF(入力シート!D41=\"\",\"\",入力シート!D41)","v":""},{"$f":"IF(入力シート!E41=\"\",\"\",入力シート!E41)","v":""},{"$f":"IF(入力シート!G41=\"\",\"\",入力シート!G41)","v":""},{"$f":"IF(入力シート!F41=\"\",\"\",入力シート!F41)","v":""},{"$f":"IF(入力シート!I41=\"\",\"\",入力シート!I41)","v":""},{"$f":"IF(入力シート!H41=\"\",\"\",入力シート!H41)","v":""}]
[{"$f":"入力シート!C42","v":65},{"$f":"IF(入力シート!D42=\"\",\"\",入力シート!D42)","v":""},{"$f":"IF(入力シート!E42=\"\",\"\",入力シート!E42)","v":""},{"$f":"IF(入力シート!G42=\"\",\"\",入力シート!G42)","v":""},{"$f":"IF(入力シート!F42=\"\",\"\",入力シート!F42)","v":""},{"$f":"IF(入力シート!I42=\"\",\"\",入力シート!I42)","v":""},{"$f":"IF(入力シート!H42=\"\",\"\",入力シート!H42)","v":""}]
[null,{"$f":"IF(入力シート!D43=\"\",\"\",入力シート!D43)","v":""},{"$f":"IF(入力シート!E43=\"\",\"\",入力シート!E43)","v":""},{"$f":"IF(入力シート!G43=\"\",\"\",入力シート!G43)","v":""},{"$f":"IF(入力シート!F43=\"\",\"\",入力シート!F43)","v":""},{"$f":"IF(入力シート!I43=\"\",\"\",入力シート!I43)","v":""},{"$f":"IF(入力シート!H43=\"\",\"\",入力シート!H43)","v":""}]
[null,{"$f":"IF(入力シート!D44=\"\",\"\",入力シート!D44)","v":""},{"$f":"IF(入力シート!E44=\"\",\"\",入力シート!E44)","v":""},{"$f":"IF(入力シート!G44=\"\",\"\",入力シート!G44)","v":""},{"$f":"IF(入力シート!F44=\"\",\"\",入力シート!F44)","v":""},{"$f":"IF(入力シート!I44=\"\",\"\",入力シート!I44)","v":""},{"$f":"IF(入力シート!H44=\"\",\"\",入力シート!H44)","v":""}]
[null,{"$f":"IF(入力シート!D45=\"\",\"\",入力シート!D45)","v":""},{"$f":"IF(入力シート!E45=\"\",\"\",入力シート!E45)","v":""},{"$f":"IF(入力シート!G45=\"\",\"\",入力シート!G45)","v":""},{"$f":"IF(入力シート!F45=\"\",\"\",入力シート!F45)","v":""},{"$f":"IF(入力シート!I45=\"\",\"\",入力シート!I45)","v":""},{"$f":"IF(入力シート!H45=\"\",\"\",入力シート!H45)","v":""}]
[{"$f":"入力シート!C46","v":71},{"$f":"IF(入力シート!D46=\"\",\"\",入力シート!D46)","v":""},{"$f":"IF(入力シート!E46=\"\",\"\",入力シート!E46)","v":""},{"$f":"IF(入力シート!G46=\"\",\"\",入力シート!G46)","v":""},{"$f":"IF(入力シート!F46=\"\",\"\",入力シート!F46)","v":""},{"$f":"IF(入力シート!I46=\"\",\"\",入力シート!I46)","v":""},{"$f":"IF(入力シート!H46=\"\",\"\",入力シート!H46)","v":""}]
[null,{"$f":"IF(入力シート!D47=\"\",\"\",入力シート!D47)","v":""},{"$f":"IF(入力シート!E47=\"\",\"\",入力シート!E47)","v":""},{"$f":"IF(入力シート!G47=\"\",\"\",入力シート!G47)","v":""},{"$f":"IF(入力シート!F47=\"\",\"\",入力シート!F47)","v":""},{"$f":"IF(入力シート!I47=\"\",\"\",入力シート!I47)","v":""},{"$f":"IF(入力シート!H47=\"\",\"\",入力シート!H47)","v":""}]
[null,{"$f":"IF(入力シート!D48=\"\",\"\",入力シート!D48)","v":""},{"$f":"IF(入力シート!E48=\"\",\"\",入力シート!E48)","v":""},{"$f":"IF(入力シート!G48=\"\",\"\",入力シート!G48)","v":""},{"$f":"IF(入力シート!F48=\"\",\"\",入力シート!F48)","v":""},{"$f":"IF(入力シート!I48=\"\",\"\",入力シート!I48)","v":""},{"$f":"IF(入力シート!H48=\"\",\"\",入力シート!H48)","v":""}]
[null,{"$f":"IF(入力シート!D49=\"\",\"\",入力シート!D49)","v":""},{"$f":"IF(入力シート!E49=\"\",\"\",入力シート!E49)","v":""},{"$f":"IF(入力シート!G49=\"\",\"\",入力シート!G49)","v":""},{"$f":"IF(入力シート!F49=\"\",\"\",入力シート!F49)","v":""},{"$f":"IF(入力シート!I49=\"\",\"\",入力シート!I49)","v":""},{"$f":"IF(入力シート!H49=\"\",\"\",入力シート!H49)","v":""}]
[{"$f":"入力シート!C50","v":80},{"$f":"IF(入力シート!D50=\"\",\"\",入力シート!D50)","v":""},{"$f":"IF(入力シート!E50=\"\",\"\",入力シート!E50)","v":""},{"$f":"IF(入力シート!G50=\"\",\"\",入力シート!G50)","v":""},{"$f":"IF(入力シート!F50=\"\",\"\",入力シート!F50)","v":""},{"$f":"IF(入力シート!I50=\"\",\"\",入力シート!I50)","v":""},{"$f":"IF(入力シート!H50=\"\",\"\",入力シート!H50)","v":""}]
[null,{"$f":"IF(入力シート!D51=\"\",\"\",入力シート!D51)","v":""},{"$f":"IF(入力シート!E51=\"\",\"\",入力シート!E51)","v":""},{"$f":"IF(入力シート!G51=\"\",\"\",入力シート!G51)","v":""},{"$f":"IF(入力シート!F51=\"\",\"\",入力シート!F51)","v":""},{"$f":"IF(入力シート!I51=\"\",\"\",入力シート!I51)","v":""},{"$f":"IF(入力シート!H51=\"\",\"\",入力シート!H51)","v":""}]
[null,{"$f":"IF(入力シート!D52=\"\",\"\",入力シート!D52)","v":""},{"$f":"IF(入力シート!E52=\"\",\"\",入力シート!E52)","v":""},{"$f":"IF(入力シート!G52=\"\",\"\",入力シート!G52)","v":""},{"$f":"IF(入力シート!F52=\"\",\"\",入力シート!F52)","v":""},{"$f":"IF(入力シート!I52=\"\",\"\",入力シート!I52)","v":""},{"$f":"IF(入力シート!H52=\"\",\"\",入力シート!H52)","v":""}]
[null,{"$f":"IF(入力シート!D53=\"\",\"\",入力シート!D53)","v":""},{"$f":"IF(入力シート!E53=\"\",\"\",入力シート!E53)","v":""},{"$f":"IF(入力シート!G53=\"\",\"\",入力シート!G53)","v":""},{"$f":"IF(入力シート!F53=\"\",\"\",入力シート!F53)","v":""},{"$f":"IF(入力シート!I53=\"\",\"\",入力シート!I53)","v":""},{"$f":"IF(入力シート!H53=\"\",\"\",入力シート!H53)","v":""}]
[{"$f":"入力シート!C54","v":92},{"$f":"IF(入力シート!D54=\"\",\"\",入力シート!D54)","v":""},{"$f":"IF(入力シート!E54=\"\",\"\",入力シート!E54)","v":""},{"$f":"IF(入力シート!G54=\"\",\"\",入力シート!G54)","v":""},{"$f":"IF(入力シート!F54=\"\",\"\",入力シート!F54)","v":""},{"$f":"IF(入力シート!I54=\"\",\"\",入力シート!I54)","v":""},{"$f":"IF(入力シート!H54=\"\",\"\",入力シート!H54)","v":""}]
[null,{"$f":"IF(入力シート!D55=\"\",\"\",入力シート!D55)","v":""},{"$f":"IF(入力シート!E55=\"\",\"\",入力シート!E55)","v":""},{"$f":"IF(入力シート!G55=\"\",\"\",入力シート!G55)","v":""},{"$f":"IF(入力シート!F55=\"\",\"\",入力シート!F55)","v":""},{"$f":"IF(入力シート!I55=\"\",\"\",入力シート!I55)","v":""},{"$f":"IF(入力シート!H55=\"\",\"\",入力シート!H55)","v":""}]
[null,{"$f":"IF(入力シート!D56=\"\",\"\",入力シート!D56)","v":""},{"$f":"IF(入力シート!E56=\"\",\"\",入力シート!E56)","v":""},{"$f":"IF(入力シート!G56=\"\",\"\",入力シート!G56)","v":""},{"$f":"IF(入力シート!F56=\"\",\"\",入力シート!F56)","v":""},{"$f":"IF(入力シート!I56=\"\",\"\",入力シート!I56)","v":""},{"$f":"IF(入力シート!H56=\"\",\"\",入力シート!H56)","v":""}]
[null,{"$f":"IF(入力シート!D57=\"\",\"\",入力シート!D57)","v":""},{"$f":"IF(入力シート!E57=\"\",\"\",入力シート!E57)","v":""},{"$f":"IF(入力シート!G57=\"\",\"\",入力シート!G57)","v":""},{"$f":"IF(入力シート!F57=\"\",\"\",入力シート!F57)","v":""},{"$f":"IF(入力シート!I57=\"\",\"\",入力シート!I57)","v":""},{"$f":"IF(入力シート!H57=\"\",\"\",入力シート!H57)","v":""}]
[{"$f":"入力シート!C58","v":125},{"$f":"IF(入力シート!D58=\"\",\"\",入力シート!D58)","v":""},{"$f":"IF(入力シート!E58=\"\",\"\",入力シート!E58)","v":""},{"$f":"IF(入力シート!G58=\"\",\"\",入力シート!G58)","v":""},{"$f":"IF(入力シート!F58=\"\",\"\",入力シート!F58)","v":""},{"$f":"IF(入力シート!I58=\"\",\"\",入力シート!I58)","v":""},{"$f":"IF(入力シート!H58=\"\",\"\",入力シート!H58)","v":""}]
[null,{"$f":"IF(入力シート!D59=\"\",\"\",入力シート!D59)","v":""},{"$f":"IF(入力シート!E59=\"\",\"\",入力シート!E59)","v":""},{"$f":"IF(入力シート!G59=\"\",\"\",入力シート!G59)","v":""},{"$f":"IF(入力シート!F59=\"\",\"\",入力シート!F59)","v":""},{"$f":"IF(入力シート!I59=\"\",\"\",入力シート!I59)","v":""},{"$f":"IF(入力シート!H59=\"\",\"\",入力シート!H59)","v":""}]
[null,{"$f":"IF(入力シート!D60=\"\",\"\",入力シート!D60)","v":""},{"$f":"IF(入力シート!E60=\"\",\"\",入力シート!E60)","v":""},{"$f":"IF(入力シート!G60=\"\",\"\",入力シート!G60)","v":""},{"$f":"IF(入力シート!F60=\"\",\"\",入力シート!F60)","v":""},{"$f":"IF(入力シート!I60=\"\",\"\",入力シート!I60)","v":""},{"$f":"IF(入力シート!H60=\"\",\"\",入力シート!H60)","v":""}]
[null,{"$f":"IF(入力シート!D61=\"\",\"\",入力シート!D61)","v":""},{"$f":"IF(入力シート!E61=\"\",\"\",入力シート!E61)","v":""},{"$f":"IF(入力シート!G61=\"\",\"\",入力シート!G61)","v":""},{"$f":"IF(入力シート!F61=\"\",\"\",入力シート!F61)","v":""},{"$f":"IF(入力シート!I61=\"\",\"\",入力シート!I61)","v":""},{"$f":"IF(入力シート!H61=\"\",\"\",入力シート!H61)","v":""}]
[]
["上記の者は本校在学生徒であり、標記大会に出場することを認め、参加申し込みをいたします。"]
[]
[{"$f":"入力シート!L15","v":"00:00:00"},null,{"$f":"入力シート!L8&\"長\"","v":"長"},null,{"$f":"入力シート!L14","v":0}]

{"sheet":"女子個人対抗戦","index":3,"n_rows":35,"n_cols":7,"rows_kept":35,"cut":false,"hidden":false,"merged":[[8,0,9,0],[8,1,9,3],[12,0,13,0],[12,1,13,3],[15,0,16,0],[15,3,16,3],[12,5,12,6],[13,5,13,6],[15,1,15,2],[34,0,34,1],[34,2,34,3],[34,4,34,5],[15,4,16,4],[15,5,16,5],[15,6,16,6],[17,0,18,0],[19,0,20,0],[21,0,22,0],[23,0,24,0],[25,0,26,0],[27,0,28,0],[29,0,30,0],[7,1,7,3],[7,5,7,6],[8,5,8,6],[9,5,9,6],[11,1,11,6],[0,0,0,6],[1,0,1,6],[2,0,2,6],[4,5,4,6],[5,5,5,6],[4,0,5,0]]}
[{"$f":"入力シート!L1","v":"令和６年度　"}]
[{"$f":"入力シート!L2","v":"熊本県高等学校レスリング新人大会"}]
["参 加 申 込 書"]
[]
["女子\n個人対抗戦"]
[]
[]
["ふりがな",{"$f":"入力シート!L7","v":0},null,null,"ふりがな",{"$f":"入力シート!E66","v":0}]
["学　校　名",{"$f":"入力シート!L8","v":0},null,null,"監　督　名",{"$f":"入力シート!D66","v":0}]
[null,null,null,null,"引率責任者",{"$f":"入力シート!D67","v":0}]
[]
["ふりがな",{"$f":"\"〒\"&入力シート!L11&\"     \"&入力シート!L9","v":"〒     "}]
["所　在　地",{"$f":"入力シート!L10","v":0},null,null,"電　話",{"$f":"入力シート!L12","v":0}]
[null,null,null,null,"F A X",{"$f":"入力シート!L13","v":0}]
[]
["区　分","選手名",null,"学 年","生 年 月 日","年 齢","備　考\n(登録番号）"]
[null,"氏名","ふりがな"]
[{"$f":"入力シート!C70","v":47},{"$f":"IF(入力シート!D70=\"\",\"\",入力シート!D70)","v":""},{"$f":"IF(入力シート!E70=\"\",\"\",入力シート!E70)","v":""},{"$f":"IF(入力シート!G70=\"\",\"\",入力シート!G70)","v":""},{"$f":"IF(入力シート!F70=\"\",\"\",入力シート!F70)","v":""},{"$f":"IF(入力シート!I70=\"\",\"\",入力シート!I70)","v":""},{"$f":"IF(入力シート!H70=\"\",\"\",入力シート!H70)","v":""}]
[null,{"$f":"IF(入力シート!D71=\"\",\"\",入力シート!D71)","v":""},{"$f":"IF(入力シート!E71=\"\",\"\",入力シート!E71)","v":""},{"$f":"IF(入力シート!G71=\"\",\"\",入力シート!G71)","v":""},{"$f":"IF(入力シート!F71=\"\",\"\",入力シート!F71)","v":""},{"$f":"IF(入力シート!I71=\"\",\"\",入力シート!I71)","v":""},{"$f":"IF(入力シート!H71=\"\",\"\",入力シート!H71)","v":""}]
[{"$f":"入力シート!C72","v":50},{"$f":"IF(入力シート!D72=\"\",\"\",入力シート!D72)","v":""},{"$f":"IF(入力シート!E72=\"\",\"\",入力シート!E72)","v":""},{"$f":"IF(入力シート!G72=\"\",\"\",入力シート!G72)","v":""},{"$f":"IF(入力シート!F72=\"\",\"\",入力シート!F72)","v":""},{"$f":"IF(入力シート!I72=\"\",\"\",入力シート!I72)","v":""},{"$f":"IF(入力シート!H72=\"\",\"\",入力シート!H72)","v":""}]
[null,{"$f":"IF(入力シート!D73=\"\",\"\",入力シート!D73)","v":""},{"$f":"IF(入力シート!E73=\"\",\"\",入力シート!E73)","v":""},{"$f":"IF(入力シート!G73=\"\",\"\",入力シート!G73)","v":""},{"$f":"IF(入力シート!F73=\"\",\"\",入力シート!F73)","v":""},{"$f":"IF(入力シート!I73=\"\",\"\",入力シート!I73)","v":""},{"$f":"IF(入力シート!H73=\"\",\"\",入力シート!H73)","v":""}]
[{"$f":"入力シート!C74","v":53},{"$f":"IF(入力シート!D74=\"\",\"\",入力シート!D74)","v":""},{"$f":"IF(入力シート!E74=\"\",\"\",入力シート!E74)","v":""},{"$f":"IF(入力シート!G74=\"\",\"\",入力シート!G74)","v":""},{"$f":"IF(入力シート!F74=\"\",\"\",入力シート!F74)","v":""},{"$f":"IF(入力シート!I74=\"\",\"\",入力シート!I74)","v":""},{"$f":"IF(入力シート!H74=\"\",\"\",入力シート!H74)","v":""}]
[null,{"$f":"IF(入力シート!D75=\"\",\"\",入力シート!D75)","v":""},{"$f":"IF(入力シート!E75=\"\",\"\",入力シート!E75)","v":""},{"$f":"IF(入力シート!G75=\"\",\"\",入力シート!G75)","v":""},{"$f":"IF(入力シート!F75=\"\",\"\",入力シート!F75)","v":""},{"$f":"IF(入力シート!I75=\"\",\"\",入力シート!I75)","v":""},{"$f":"IF(入力シート!H75=\"\",\"\",入力シート!H75)","v":""}]
[{"$f":"入力シート!C76","v":57},{"$f":"IF(入力シート!D76=\"\",\"\",入力シート!D76)","v":""},{"$f":"IF(入力シート!E76=\"\",\"\",入力シート!E76)","v":""},{"$f":"IF(入力シート!G76=\"\",\"\",入力シート!G76)","v":""},{"$f":"IF(入力シート!F76=\"\",\"\",入力シート!F76)","v":""},{"$f":"IF(入力シート!I76=\"\",\"\",入力シート!I76)","v":""},{"$f":"IF(入力シート!H76=\"\",\"\",入力シート!H76)","v":""}]
[null,{"$f":"IF(入力シート!D77=\"\",\"\",入力シート!D77)","v":""},{"$f":"IF(入力シート!E77=\"\",\"\",入力シート!E77)","v":""},{"$f":"IF(入力シート!G77=\"\",\"\",入力シート!G77)","v":""},{"$f":"IF(入力シート!F77=\"\",\"\",入力シート!F77)","v":""},{"$f":"IF(入力シート!I77=\"\",\"\",入力シート!I77)","v":""},{"$f":"IF(入力シート!H77=\"\",\"\",入力シート!H77)","v":""}]
[{"$f":"入力シート!C78","v":62},{"$f":"IF(入力シート!D78=\"\",\"\",入力シート!D78)","v":""},{"$f":"IF(入力シート!E78=\"\",\"\",入力シート!E78)","v":""},{"$f":"IF(入力シート!G78=\"\",\"\",入力シート!G78)","v":""},{"$f":"IF(入力シート!F78=\"\",\"\",入力シート!F78)","v":""},{"$f":"IF(入力シート!I78=\"\",\"\",入力シート!I78)","v":""},{"$f":"IF(入力シート!H78=\"\",\"\",入力シート!H78)","v":""}]
[null,{"$f":"IF(入力シート!D79=\"\",\"\",入力シート!D79)","v":""},{"$f":"IF(入力シート!E79=\"\",\"\",入力シート!E79)","v":""},{"$f":"IF(入力シート!G79=\"\",\"\",入力シート!G79)","v":""},{"$f":"IF(入力シート!F79=\"\",\"\",入力シート!F79)","v":""},{"$f":"IF(入力シート!I79=\"\",\"\",入力シート!I79)","v":""},{"$f":"IF(入力シート!H79=\"\",\"\",入力シート!H79)","v":""}]
[{"$f":"入力シート!C80","v":68},{"$f":"IF(入力シート!D80=\"\",\"\",入力シート!D80)","v":""},{"$f":"IF(入力シート!E80=\"\",\"\",入力シート!E80)","v":""},{"$f":"IF(入力シート!G80=\"\",\"\",入力シート!G80)","v":""},{"$f":"IF(入力シート!F80=\"\",\"\",入力シート!F80)","v":""},{"$f":"IF(入力シート!I80=\"\",\"\",入力シート!I80)","v":""},{"$f":"IF(入力シート!H80=\"\",\"\",入力シート!H80)","v":""}]
[null,{"$f":"IF(入力シート!D81=\"\",\"\",入力シート!D81)","v":""},{"$f":"IF(入力シート!E81=\"\",\"\",入力シート!E81)","v":""},{"$f":"IF(入力シート!G81=\"\",\"\",入力シート!G81)","v":""},{"$f":"IF(入力シート!F81=\"\",\"\",入力シート!F81)","v":""},{"$f":"IF(入力シート!I81=\"\",\"\",入力シート!I81)","v":""},{"$f":"IF(入力シート!H81=\"\",\"\",入力シート!H81)","v":""}]
[{"$f":"入力シート!C82","v":74},{"$f":"IF(入力シート!D82=\"\",\"\",入力シート!D82)","v":""},{"$f":"IF(入力シート!E82=\"\",\"\",入力シート!E82)","v":""},{"$f":"IF(入力シート!G82=\"\",\"\",入力シート!G82)","v":""},{"$f":"IF(入力シート!F82=\"\",\"\",入力シート!F82)","v":""},{"$f":"IF(入力シート!I82=\"\",\"\",入力シート!I82)","v":""},{"$f":"IF(入力シート!H82=\"\",\"\",入力シート!H82)","v":""}]
[null,{"$f":"IF(入力シート!D83=\"\",\"\",入力シート!D83)","v":""},{"$f":"IF(入力シート!E83=\"\",\"\",入力シート!E83)","v":""},{"$f":"IF(入力シート!G83=\"\",\"\",入力シート!G83)","v":""},{"$f":"IF(入力シート!F83=\"\",\"\",入力シート!F83)","v":""},{"$f":"IF(入力シート!I83=\"\",\"\",入力シート!I83)","v":""},{"$f":"IF(入力シート!H83=\"\",\"\",入力シート!H83)","v":""}]
[]
["上記の者は本校在学生徒であり、標記大会に出場することを認め、参加申し込みをいたします。"]
[]
[{"$f":"入力シート!L15","v":"00:00:00"},null,{"$f":"入力シート!L8&\"長\"","v":"長"},null,{"$f":"入力シート!L14","v":0}]